BEGIN:VCALENDAR
VERSION:2.0
PRODID:-//eventon.com NONSGML v1.0//EN
CALSCALE:GREGORIAN
METHOD:PUBLISH
BEGIN:VEVENT
UID:69eb4cb96a2c2
DTSTAMP:20260424T105801Z
DTSTART:20260425T150000Z
DTEND:20260425T210000Z
LOCATION:Ruth Hardy Park 700 Tamarisk Lane 92262
SUMMARY:Let's Plant & Play — Earth & Arbor Day Celebration
DESCRIPTION:Celebrate Earth Day & Arbor Day with the City of Palm Springs! 
 Join us for a fun-filled morning of tree planting\,  yard games\,  music\, 
  and free food and drinks. Whether you want to get your hands dirty plantin
 g trees\,  play some games\,  groove to music\,  or simply relax with refre
 shments[..]\nhttps://gaydesertguide.com/events/lets-plant-play-earth-arbor-
 day-celebration/
URL:https://gaydesertguide.com/events/lets-plant-play-earth-arbor-day-celebration/
END:VEVENT
END:VCALENDAR