BEGIN:VCALENDAR
VERSION:2.0
PRODID:-//eventon.com NONSGML v1.0//EN
CALSCALE:GREGORIAN
METHOD:PUBLISH
BEGIN:VEVENT
UID:69eb31145add9
DTSTAMP:20260424T090004Z
DTSTART:20260425T160000Z
DTEND:20260425T180000Z
LOCATION:Kimpton Rowan Palm Springs Hotel 100 W. Tahquitz Canyon Way
SUMMARY:CATurday Breakfast + BINGO
DESCRIPTION:Join Animal Samaritans for our 5th Annual CATurday Breakfast + 
 BINGO on Saturday\,  April 25th from 9am – 11am at the beautiful Sky Ball
 room at Kimpton Rowan Palm Springs. Start your day with delicious breakfast
 \,  mimosas\,  and lively rounds of BINGO—all while supporting a great ca
 use. Your ticket includes:• Delicious[..]\nhttps://gaydesertguide.com/eve
 nts/caturday-breakfast-bingo/
URL:https://gaydesertguide.com/events/caturday-breakfast-bingo/
END:VEVENT
END:VCALENDAR