BEGIN:VCALENDAR
VERSION:2.0
PRODID:-//eventon.com NONSGML v1.0//EN
CALSCALE:GREGORIAN
METHOD:PUBLISH
BEGIN:VEVENT
UID:69eb4e778b978
DTSTAMP:20260424T110527Z
DTSTART:20260423T003000Z
DTEND:20260423T020000Z
LOCATION:Saffron Restaurant and Lounge 1107 N Palm Canyon Dr
SUMMARY:The Center Social - April
DESCRIPTION:Apr 22\,  2026 / 5:30 PM-7:00 PM&nbsp; Join us every 4th Wednes
 day of the month for our Center Social from 5:30-7pm. Look forward to conne
 ction\,  friendship\,  and a tasty happy hour!\nhttps://gaydesertguide.com/
 events/the-center-social-april/
URL:https://gaydesertguide.com/events/the-center-social-april/
END:VEVENT
END:VCALENDAR