BEGIN:VCALENDAR
VERSION:2.0
PRODID:-//eventon.com NONSGML v1.0//EN
CALSCALE:GREGORIAN
METHOD:PUBLISH
BEGIN:VEVENT
UID:69e840b9d3c1f
DTSTAMP:20260422T033001Z
DTSTART:20260329T190000Z
DTEND:20260330T020000Z
LOCATION:Skylark Hotel 1466 N Palm Canyon
SUMMARY:Skylark Pool Party
DESCRIPTION:It’s POOL PARTY SEASON in Palm Springs and we’re kicking it
  off with a good one on Sunday\,  March 29th from 12-7pm ☀️ We’re tak
 ing over the @skylarkhotelpalmsprings pool and celebrating the launch of @n
 eonranchrecords with sets by Grammy nominated producer &amp; DJ @marklewism
 usik \,  Los Angeles legend @dannybmusique and[..]\nhttps://gaydesertguide.
 com/events/skylark-pool-party/
URL:https://gaydesertguide.com/events/skylark-pool-party/
END:VEVENT
END:VCALENDAR