BEGIN:VCALENDAR
VERSION:2.0
PRODID:-//eventon.com NONSGML v1.0//EN
CALSCALE:GREGORIAN
METHOD:PUBLISH
BEGIN:VEVENT
UID:69e7646f7362c
DTSTAMP:20260421T115007Z
DTSTART:20260501
DTEND:20260502
LOCATION:Cathedral City Civic Center Plaza 68700 Ave Lalo Guerrero 92234
SUMMARY:Taste of Jalisco Festival
DESCRIPTION:Taste of Jalisco Festival Returns to Cathedral City for 10th An
 niversary Celebration\,  May 1-3\,  2026 The City of Cathedral City is prou
 d to announce the dates of the 10th Annual Taste of Jalisco Festival\,  cel
 ebrating the sights\,  sounds\,  and tastes of its sister city Tequila\,  J
 alisco\,  Mexico here in Southern[..]\nhttps://gaydesertguide.com/events/ta
 ste-of-jalisco-festival/
URL:https://gaydesertguide.com/events/taste-of-jalisco-festival/
END:VEVENT
END:VCALENDAR