BEGIN:VCALENDAR
VERSION:2.0
PRODID:-//eventon.com NONSGML v1.0//EN
CALSCALE:GREGORIAN
METHOD:PUBLISH
BEGIN:VEVENT
UID:69e9ddebb59c6
DTSTAMP:20260423T085259Z
DTSTART:20260419T220000Z
DTEND:20260420T010000Z
LOCATION:Acrisure Arena 75702 Varner Rd\,  Palm Desert\,  CA 92211
SUMMARY:Fan Appreciation – Coachella Valley Firebirds vs. Abbotsford
DESCRIPTION:Fan Appreciation Night Sunday Apr. 19 vs. Abbotsford – 3PM Cl
 ose out the regular season by celebrating Firebirds fans with special in-ga
 me giveaways\,  fan appreciation stories\,  season highlights and more\,  p
 resented by Acrisure. Giveaway: Mini Fuego Haboob Globe (quantities limited
 \,  first come first served) Get Tickets\nhttps://gaydesertguide.com/events
 /firebirds-fan-appreciation-night/
URL:https://gaydesertguide.com/events/firebirds-fan-appreciation-night/
END:VEVENT
END:VCALENDAR