BEGIN:VCALENDAR
VERSION:2.0
PRODID:-//eventon.com NONSGML v1.0//EN
CALSCALE:GREGORIAN
METHOD:PUBLISH
BEGIN:VEVENT
UID:69ea0e844f601
DTSTAMP:20260423T122020Z
DTSTART:20260418T023000Z
DTEND:20260418T050000Z
LOCATION:Rancho Mirage Amphitheatre 71560 San Jacinto Drive Rancho Mirage 92270
SUMMARY:CABARET
DESCRIPTION:In a Berlin nightclub\,  as the 1920s draw to a close\,  a gari
 sh Master of Ceremonies welcomes the audience and assures them they will fo
 rget all their troubles at the Cabaret. With the Emcee’s bawdy songs as w
 ry commentary\,  Cabaret explores the dark\,  heady and tumultuous life of 
 Berlin’s natives[..]\nhttps://gaydesertguide.com/events/cabaret/
URL:https://gaydesertguide.com/events/cabaret/
END:VEVENT
END:VCALENDAR