BEGIN:VCALENDAR
VERSION:2.0
PRODID:-//eventon.com NONSGML v1.0//EN
CALSCALE:GREGORIAN
METHOD:PUBLISH
BEGIN:VEVENT
UID:69ec94e3d44a9
DTSTAMP:20260425T101811Z
DTSTART:20260324T000000Z
DTEND:20260324T020000Z
LOCATION:Private location (address to be provided upon RSVP)
SUMMARY:Sage & Friends
DESCRIPTION:Honoring the contributions of&nbsp;LGBTQ+ life in Palm Springs 
 and Beyond! Monday\,  March 23rd / 5:00 - 7:00pm Location will be available
  upon registration Contact us at development@sageusa.org for information.\n
 https://gaydesertguide.com/events/sage-friends/
URL:https://gaydesertguide.com/events/sage-friends/
END:VEVENT
END:VCALENDAR