BEGIN:VCALENDAR
VERSION:2.0
PRODID:-//eventon.com NONSGML v1.0//EN
CALSCALE:GREGORIAN
METHOD:PUBLISH
BEGIN:VEVENT
UID:69ea2f383a401
DTSTAMP:20260423T143952Z
DTSTART:20260322T020000Z
DTEND:20260322T030000Z
LOCATION:Palm Springs Cultural Center/Camelot Theatre 2300 E Baristo Rd\,  Palm Springs\,  CA 92262
SUMMARY:Mo Collins is Wigging Out
DESCRIPTION:Wig Out with Comedy Icon - Mo Collins!For one night only\,  The
  Bent is bringing the legendary Mo Collins to the stage for a high-octane\,
   improvisational tour de force that you cannot miss!You know her as the hi
 lariously awkward Lorraine Swanson on MadTV\,  the martini-clutching Joan C
 allamezzo on Parks and[..]\nhttps://gaydesertguide.com/events/mo-collins-is
 -wigging-out/
URL:https://gaydesertguide.com/events/mo-collins-is-wigging-out/
END:VEVENT
END:VCALENDAR