BEGIN:VCALENDAR
VERSION:2.0
PRODID:-//eventon.com NONSGML v1.0//EN
CALSCALE:GREGORIAN
METHOD:PUBLISH
BEGIN:VEVENT
UID:69e752211789b
DTSTAMP:20260421T103201Z
DTSTART:20260318T020000Z
DTEND:20260318T065900Z
LOCATION:Palm Canyon Theatre 538 N Palm Canyon Dr\,  92262
SUMMARY:The Tuesday Show: Unsung Broadway
DESCRIPTION:Palm Canyon Theatre presents The Tuesday Show: Unsung Broadway 
 on Tuesday\,  March 17\,  2026 at 7 p.m.\,  part of the ongoing cabaret ser
 ies hosted by acclaimed local vocalist Francesca Amari. This special instal
 lment explores songs originally written for Broadway and Off-Broadway produ
 ctions that were later cut or rarely performed\,  offering[..]\nhttps://gay
 desertguide.com/events/the-tuesday-show-unsung-broadway-palm-canyon-theatre
 /
URL:https://gaydesertguide.com/events/the-tuesday-show-unsung-broadway-palm-canyon-theatre/
END:VEVENT
END:VCALENDAR