BEGIN:VCALENDAR
VERSION:2.0
PRODID:-//eventon.com NONSGML v1.0//EN
CALSCALE:GREGORIAN
METHOD:PUBLISH
BEGIN:VEVENT
UID:69ec9665cfd6c
DTSTAMP:20260425T102437Z
DTSTART:20260514
DTEND:20260515
LOCATION:Joshua Tree Lake Campground 2601 Sunfair Road
SUMMARY:Joshua Tree Music Festival
DESCRIPTION:Find Your People in the Mojave The 24th Spring Joshua Tree Musi
 c Festival returns May 14–17\,  2026 – four nights and three days of li
 ve music\,  movement\,  mindfulness\,  and magic in the Mojave desert.\nhtt
 ps://gaydesertguide.com/events/joshua-tree-music-festival/
URL:https://gaydesertguide.com/events/joshua-tree-music-festival/
END:VEVENT
END:VCALENDAR