BEGIN:VCALENDAR
VERSION:2.0
PRODID:-//eventon.com NONSGML v1.0//EN
CALSCALE:GREGORIAN
METHOD:PUBLISH
BEGIN:VEVENT
UID:69e63427e9726
DTSTAMP:20260420T141151Z
DTSTART:20260423
DTEND:20260424
LOCATION:
SUMMARY:Dining Out For Life
DESCRIPTION:The concept is simple: restaurants\,  bars\,  and coffee shops 
 donate a generous percent of their sales to DAP Health\,  and we fill parti
 cipating locations with community members who want to support the mission o
 f ending HIV. Making a positive impact in your community has never been eas
 ier.&nbsp;On April 23\,  2026:[..]\nhttps://gaydesertguide.com/events/dinin
 g-out-for-life/
URL:https://gaydesertguide.com/events/dining-out-for-life/
END:VEVENT
END:VCALENDAR