BEGIN:VCALENDAR
VERSION:2.0
PRODID:-//eventon.com NONSGML v1.0//EN
CALSCALE:GREGORIAN
METHOD:PUBLISH
BEGIN:VEVENT
UID:69e751c0dc753
DTSTAMP:20260421T103024Z
DTSTART:20260318T020000Z
DTEND:20260318T040000Z
LOCATION:DEZART PLAYHOUSE 605 S. Riverside Drive
SUMMARY:Fellow Travelers: The Opera
DESCRIPTION:Palm Springs Opera Guild presents the most powerful and tender 
 scenes from the opera "Fellow Travelers" at the Dezart Playhouse.Set agains
 t the backdrop of the 1950’s Lavender Scare when gays and lesbians were b
 eing purged from the Federal government\,  Fellow Travelers tells the story
  of two young gay government officials[..]\nhttps://gaydesertguide.com/even
 ts/fellow-travelers-the-opera/
URL:https://gaydesertguide.com/events/fellow-travelers-the-opera/
END:VEVENT
END:VCALENDAR