BEGIN:VCALENDAR
VERSION:2.0
PRODID:-//eventon.com NONSGML v1.0//EN
CALSCALE:GREGORIAN
METHOD:PUBLISH
BEGIN:VEVENT
UID:69eb2557ccbac
DTSTAMP:20260424T080959Z
DTSTART:20260329T020000Z
DTEND:20260329T050000Z
LOCATION:V Wine Lounge &amp; Martini Bar 600 E. Tahquitz Canyon Way
SUMMARY:Lez Party Spring Dance
DESCRIPTION:March 28th\,  2026 from 7-10PM at V Wine Lounge and Martini Bar
 ! Don't miss out on the Lez Party Spring Dance!\nhttps://gaydesertguide.com
 /events/lez-party-spring-dance/
URL:https://gaydesertguide.com/events/lez-party-spring-dance/
END:VEVENT
END:VCALENDAR