BEGIN:VCALENDAR
VERSION:2.0
PRODID:-//eventon.com NONSGML v1.0//EN
CALSCALE:GREGORIAN
METHOD:PUBLISH
BEGIN:VEVENT
UID:69ec944809927
DTSTAMP:20260425T101536Z
DTSTART:20260208T020000Z
DTEND:20260208T040000Z
LOCATION:The Social Cafe and Play Lounge 2825 E Tahquitz Canyon Way
SUMMARY:BAM!Tastic with Alexis Mateo!
DESCRIPTION:BAM!Tastic with Alexis Mateo!Feb 7\,  2026\,  Sat @ 6:00 pm - 8
 :00 pm PSTThe Social Cafe &amp; Lounge\,  2825 East Tahquitz Canyon Way #BL
 DG C\,  Palm Springs\,  CA Price range: $28.52 - $49.87RuPaul's Drag Race s
 tar Alexis Mateo brings BAM!Tastic to The Social! Live singing\,  fierce fa
 shion &amp; pure fabulousness.[..]\nhttps://gaydesertguide.com/events/bamta
 stic-with-alexis-mateo/
URL:https://gaydesertguide.com/events/bamtastic-with-alexis-mateo/
END:VEVENT
END:VCALENDAR