BEGIN:VCALENDAR
VERSION:2.0
PRODID:-//eventon.com NONSGML v1.0//EN
CALSCALE:GREGORIAN
METHOD:PUBLISH
BEGIN:VEVENT
UID:69e74c3edfdc0
DTSTAMP:20260421T100654Z
DTSTART:20260208T220000Z
DTEND:20260209T075900Z
LOCATION:Agua Caliente Casino Resort Spa Rancho Mirage 32-250 Bob Hope Drive
SUMMARY:CATCH THE BIG GAME AT AGUA CALIENTE CASINOS 
DESCRIPTION:Reserve your seats for the BIGGEST game of the year! RANCHO MIR
 AGE360 Sports General Admission Seating ($100) – this includes $50 Free P
 lay and entry into 360 Sports starting 2PM. Must become an ACE Club member 
 to redeem Free Play. VIP Seating Available only at RM 360 Sports ($175/ $12
 5)[..]\nhttps://gaydesertguide.com/events/catch-the-big-game-at-agua-calien
 te-casinos/
URL:https://gaydesertguide.com/events/catch-the-big-game-at-agua-caliente-casinos/
END:VEVENT
END:VCALENDAR