BEGIN:VCALENDAR
VERSION:2.0
PRODID:-//eventon.com NONSGML v1.0//EN
CALSCALE:GREGORIAN
METHOD:PUBLISH
BEGIN:VEVENT
UID:69ea2d2059785
DTSTAMP:20260423T143056Z
DTSTART:20260327
DTEND:20260328
LOCATION:Festival Theaters 789 East Tahquitz Canyon Way
SUMMARY:PS Book Fest by OUTspoken
DESCRIPTION:March 27-29\,  2026 The desert's literary landscape continues t
 o grow with the debut of the&nbsp;Palm Spring Book Festival\,  a new festiv
 al designed for the entire Palm Springs community and produced by&nbsp;OUTs
 poken\,  a fiscally sponsored nonprofit project dedicated to amplifying div
 erse voices and stories. The inaugural event takes place&nbsp;March 27–29
 \,  2026\, [..]\nhttps://gaydesertguide.com/events/ps-book-fest/
URL:https://gaydesertguide.com/events/ps-book-fest/
END:VEVENT
END:VCALENDAR