BEGIN:VCALENDAR
VERSION:2.0
PRODID:-//eventon.com NONSGML v1.0//EN
CALSCALE:GREGORIAN
METHOD:PUBLISH
BEGIN:VEVENT
UID:69eb258db956d
DTSTAMP:20260424T081053Z
DTSTART:20260328T160000Z
DTEND:20260328T190000Z
LOCATION:Palm Springs City Hall 3200 E Tahquitz Canyon Way      92262
SUMMARY:No Kings - Coachella Valley
DESCRIPTION:What began in 2025 as a single day of defiance has become a sus
 tained national resistance to tyranny\,  spreading from small towns to city
  centers and across every community determined to defend democracy. Our pea
 ceful movement is bigger than ever. When our families are under attack and 
 costs are pushing[..]\nhttps://gaydesertguide.com/events/no-kings/
URL:https://gaydesertguide.com/events/no-kings/
END:VEVENT
END:VCALENDAR