BEGIN:VCALENDAR
VERSION:2.0
PRODID:-//eventon.com NONSGML v1.0//EN
CALSCALE:GREGORIAN
METHOD:PUBLISH
BEGIN:VEVENT
UID:69e9dd60bc6bf
DTSTAMP:20260423T085040Z
DTSTART:20260208T010000Z
DTEND:20260208T040000Z
LOCATION:Rubine Red Gallery 668 N Palm Canyon Drive
SUMMARY:Sweet Jazz Opening Reception (Watercolors\,  Etchings\,  Intaglios\,  Oil and Acrylic)
DESCRIPTION:Malcolm Myers relationship with this true American Music Genre 
 spanned his entire career. From the early days of WWII in New York city whe
 re he was stationed in the Merchant Marine\,  Myers frequented the Black Ja
 zz clubs around 57th and 52nd streets -- clubs that are now long gone\,  sa
 dly[..]\nhttps://gaydesertguide.com/events/sweet-jazz-opening-reception/
URL:https://gaydesertguide.com/events/sweet-jazz-opening-reception/
END:VEVENT
END:VCALENDAR