BEGIN:VCALENDAR
VERSION:2.0
PRODID:-//eventon.com NONSGML v1.0//EN
CALSCALE:GREGORIAN
METHOD:PUBLISH
BEGIN:VEVENT
UID:69e8a025bdc70
DTSTAMP:20260422T101709Z
DTSTART:20260206T010000Z
DTEND:20260206T030000Z
LOCATION:Artist Council Artist Center at the Galen 72-567 CA-111\,  Palm Desert\,  CA 92260
SUMMARY:Artists Council Exhibition: Timeless Traditions/ Modern Context
DESCRIPTION:Don't miss our 'Artists Council Exhibition: Timeless Traditions
 \,  Modern Context'\,  where art from the Coachella Valley and beyond pushe
 s the boundaries of history and contemporary perspectives. This featured ex
 hibition of more than 130 artworks showcases a dynamic collection of juried
  submissions selected from the diverse talent of our over 700[..]\nhttps://
 gaydesertguide.com/events/artists-council-exhibition-timeless-traditions-mo
 dern-context/
URL:https://gaydesertguide.com/events/artists-council-exhibition-timeless-traditions-modern-context/
END:VEVENT
END:VCALENDAR