BEGIN:VCALENDAR
VERSION:2.0
PRODID:-//eventon.com NONSGML v1.0//EN
CALSCALE:GREGORIAN
METHOD:PUBLISH
BEGIN:VEVENT
UID:69e74c04d58e8
DTSTAMP:20260421T100556Z
DTSTART:20260206
DTEND:20260207
LOCATION:
SUMMARY:National Wear Red Day
DESCRIPTION:We wear RED for every woman’s story of strength\,  survival\,
   and sisterhood. Because no woman should face cardiovascular disease alone
 .Together\,  we create a community where every heart is seen\,  every voice
  is heard\,  and every life is celebrated. Cardiovascular disease (CVD) is 
 the leading cause of death for women in[..]\nhttps://gaydesertguide.com/eve
 nts/national-wear-red-day/
URL:https://gaydesertguide.com/events/national-wear-red-day/
END:VEVENT
END:VCALENDAR