BEGIN:VCALENDAR
VERSION:2.0
PRODID:-//eventon.com NONSGML v1.0//EN
CALSCALE:GREGORIAN
METHOD:PUBLISH
BEGIN:VEVENT
UID:69eb3a481b430
DTSTAMP:20260424T093920Z
DTSTART:20260204T020000Z
DTEND:20260204T030000Z
LOCATION:Mizell Center 480 South Sunrise Way\,  Palm Springs. 92264
SUMMARY:Urological Health and HIV / Positive Life Series
DESCRIPTION:Topic&nbsp; Urological Health and HIV Presented By Dr. Jay Bisc
 hoff - Board Certified Urologist - Eisenhower Medical Center Where* Mizell 
 Center&nbsp;480 South Sunrise WayPalm Springs\,  CA 92262*Dining Room Time&
 nbsp; Feb 3 / 6:00 pm\nhttps://gaydesertguide.com/events/urological-health-
 and-hiv-positive-life-series/
URL:https://gaydesertguide.com/events/urological-health-and-hiv-positive-life-series/
END:VEVENT
END:VCALENDAR