BEGIN:VCALENDAR
VERSION:2.0
PRODID:-//eventon.com NONSGML v1.0//EN
CALSCALE:GREGORIAN
METHOD:PUBLISH
BEGIN:VEVENT
UID:69e8a147aa452
DTSTAMP:20260422T102159Z
DTSTART:20260405T030000Z
DTEND:20260405T065900Z
LOCATION:The Show at Agua Caliente Casino Resort Spa 32250 Bob Hope Dr. 92270
SUMMARY:Rick Springfield in Concert
DESCRIPTION:Rick Springfield brings A Lifetime of Music to The Show at Agua
  Caliente Casino Resort Spa Rancho Mirage on Saturday\,  April 4 at 8 pm\, 
  celebrating more than four decades of hits\,  charisma and powerhouse perf
 ormance. A Grammy winner with 25 million albums sold and 17 Top 40 singles\
 ,  he’s[..]\nhttps://gaydesertguide.com/events/rick-springfield-in-concer
 t/
URL:https://gaydesertguide.com/events/rick-springfield-in-concert/
END:VEVENT
END:VCALENDAR