BEGIN:VCALENDAR
VERSION:2.0
PRODID:-//eventon.com NONSGML v1.0//EN
CALSCALE:GREGORIAN
METHOD:PUBLISH
BEGIN:VEVENT
UID:69ecb2e26db37
DTSTAMP:20260425T122610Z
DTSTART:20260301T020000Z
DTEND:20260301T075900Z
LOCATION:The Show at Agua Caliente Casino Resort Spa 32250 Bob Hope Dr. 92270
SUMMARY:Legends of Pop Festival - Madonna\,  Prince & Michael Jackson
DESCRIPTION:Celebrate the icons of music at the Legends of Pop Festival on 
 Saturday\,  February 28\,  2026\,  at 6 pm in The Show at Agua Caliente Res
 ort Casino Spa Rancho Mirage. This all‑day tribute to Madonna\,  Prince\,
   and Michael Jackson features live entertainment\,  trivia\,  costume cont
 ests\,  themed food and drinks\,  and[..]\nhttps://gaydesertguide.com/event
 s/legends-of-pop-festival-madonna-prince-michael-jackson/
URL:https://gaydesertguide.com/events/legends-of-pop-festival-madonna-prince-michael-jackson/
END:VEVENT
END:VCALENDAR