BEGIN:VCALENDAR
VERSION:2.0
PRODID:-//eventon.com NONSGML v1.0//EN
CALSCALE:GREGORIAN
METHOD:PUBLISH
BEGIN:VEVENT
UID:69e8a21e47fff
DTSTAMP:20260422T102534Z
DTSTART:20260110T180000Z
DTEND:20260110T230000Z
LOCATION:Annenberg Center for Health Sciences at Eisenhower Medical Center 39000 Bob Hope. Dr. 92270
SUMMARY:THRIVE: A PATH TO WELL-BEING / The L-fund
DESCRIPTION:JANUARY 10\,  2026 ﻿Join us for our 2nd annual THRIVE event f
 or cis\,  trans\,  and queer identifying lesbians in the greater Coachella 
 Valley area. A day of health and wellness! We will have guest speakers focu
 sing on women’s health\,  exhibitors\,  and breakout sessions. THRIVE las
 t year was a big hit[..]\nhttps://gaydesertguide.com/events/thrive-a-path-t
 o-well-being-the-l-fund/
URL:https://gaydesertguide.com/events/thrive-a-path-to-well-being-the-l-fund/
END:VEVENT
END:VCALENDAR