BEGIN:VCALENDAR
VERSION:2.0
PRODID:-//eventon.com NONSGML v1.0//EN
CALSCALE:GREGORIAN
METHOD:PUBLISH
BEGIN:VEVENT
UID:69eab9906ecc2
DTSTAMP:20260424T003008Z
DTSTART:20251218T013000Z
DTEND:20251218T030000Z
LOCATION:Community Food Bank @ The Center 2901 East Alejo Rd
SUMMARY:The Center Queer Women's Social
DESCRIPTION:Join us every 3rd Wednesday of the month for our Center Womenâ€
 ™s Social from 5:30pm â€“ 7pm. We look forward to making meaningful connect
 ions\,  friends\,  and a fun time!\nhttps://gaydesertguide.com/events/the-c
 enter-queer-womens-social/
URL:https://gaydesertguide.com/events/the-center-queer-womens-social/
END:VEVENT
END:VCALENDAR