BEGIN:VCALENDAR
VERSION:2.0
PRODID:-//eventon.com NONSGML v1.0//EN
CALSCALE:GREGORIAN
METHOD:PUBLISH
BEGIN:VEVENT
UID:69ed3a0c66f71
DTSTAMP:20260425T220252Z
DTSTART:20251129T220000Z
DTEND:20251130T000000Z
LOCATION:St Margaret's Episcopal Church 47535 Hwy 74 Palm Desert\,  CA 92260
SUMMARY:Coachella Valley Holiday Sing-a-Long
DESCRIPTION:Modeled after the annual Sing-a-long at the Disney Concert Hall
 \,  this promises to become a holiday favorite for the whole family! Modele
 d after the annual Singalong at the Disney Concert Hall\,  this promises to
  become a holiday favorite for the whole family!&nbsp; Sing along to the to
 p hits of the[..]\nhttps://gaydesertguide.com/events/coachella-valley-holid
 ay-sing-a-long/
URL:https://gaydesertguide.com/events/coachella-valley-holiday-sing-a-long/
END:VEVENT
END:VCALENDAR