BEGIN:VCALENDAR
VERSION:2.0
PRODID:-//eventon.com NONSGML v1.0//EN
CALSCALE:GREGORIAN
METHOD:PUBLISH
BEGIN:VEVENT
UID:69ed394d19a47
DTSTAMP:20260425T215941Z
DTSTART:20251206T180000Z
DTEND:20251206T200000Z
LOCATION:Contour Dermatology 42600 Mirage Road
SUMMARY:Day of Beauty / Contour Dermatology
DESCRIPTION:Day of Beauty - December 6\,  2025 PAM-PURR YOURSELF WITH DAY O
 F BEAUTY SPECIALS DECEMBER 1 – 6 FOR GLEAMING NINE LIVES SKIN. RSVP onlin
 e now for&nbsp;Fur-ocious Deals&nbsp;and schedule a customized In-person or
  video consultation for glowing skin at wizard of paws prices!* Benefiting 
 the Palm Springs Animal Shelter\,  they[..]\nhttps://gaydesertguide.com/eve
 nts/day-of-beauty-contour-dermatology/
URL:https://gaydesertguide.com/events/day-of-beauty-contour-dermatology/
END:VEVENT
END:VCALENDAR