BEGIN:VCALENDAR
VERSION:2.0
PRODID:-//eventon.com NONSGML v1.0//EN
CALSCALE:GREGORIAN
METHOD:PUBLISH
BEGIN:VEVENT
UID:69e4ed7a16aa8
DTSTAMP:20260419T145802Z
DTSTART:20260222T020000Z
DTEND:20260222T060000Z
LOCATION:Palm Springs Convention Center 277 N Avenida Caballeros\,  Palm Springs\,  CA 92262
SUMMARY:The Chase 2026 / DAP Health
DESCRIPTION:February 21\,  2026 5:30 p.m. | Arrivals – Cocktail Reception
  – Silent Auction 6:30 p.m. | Ballroom Opens – Dinner – Live Auction 
 9:00 p.m. | Headline Entertainment: The Temptations Dress code: Creative fo
 rmalDress to impress with your own uniquely fabulous formal flair. At The C
 hase\,  your presence does more[..]\nhttps://gaydesertguide.com/events/the-
 chase-2026-dap-health/
URL:https://gaydesertguide.com/events/the-chase-2026-dap-health/
END:VEVENT
END:VCALENDAR