BEGIN:VCALENDAR
VERSION:2.0
PRODID:-//eventon.com NONSGML v1.0//EN
CALSCALE:GREGORIAN
METHOD:PUBLISH
BEGIN:VEVENT
UID:69ed3a26adee5
DTSTAMP:20260425T220318Z
DTSTART:20251206T180000Z
DTEND:20251208T030000Z
LOCATION:Miles Avenue Park 82524 Miles Ave\,  Indio\,  CA 92201
SUMMARY:33rd Annual Indio International Tamale Festival
DESCRIPTION:Saturday\,  December 6\,  2025 | 10:00 AM – 7:00 PMSunday\,  
 December 7\,  2025 | 10:00 AM – 7:00 PMWhere:Miles Avenue Park\,  Indio\,
   CAAdmission &amp; Parking:FREE AdmissionFREE Parking at the Riverside Cou
 nty FairgroundsFREE Shuttle service to and from the festivalWhat to Expect:
 The Tamale Trail: The heart of the festival! Explore the[..]\nhttps://gayde
 sertguide.com/events/33rd-annual-indio-international-tamale-festival/
URL:https://gaydesertguide.com/events/33rd-annual-indio-international-tamale-festival/
END:VEVENT
END:VCALENDAR