BEGIN:VCALENDAR
VERSION:2.0
PRODID:-//eventon.com NONSGML v1.0//EN
CALSCALE:GREGORIAN
METHOD:PUBLISH
BEGIN:VEVENT
UID:69e886a8b4880
DTSTAMP:20260422T082824Z
DTSTART:20260424T020000Z
DTEND:20260424T040000Z
LOCATION:Palm Canyon Theatre 538 N Palm Canyon Dr\,  92262
SUMMARY:Kiss of the Spider Woman / Palm Canyon Theatre
DESCRIPTION:Kiss of the Spider Woman Apr 17 - 26\,  2026 Set in a brutal So
 uth American prison\,  Kiss of the Spider Woman is a daring\,  poignant m
 usical about fantasy\,  love\,  and survival. As two prisoners form an unli
 kely bond\,  haunting visions of a mysterious diva blur reality\,  and illu
 sion. Passionate and provocative\, [..]\nhttps://gaydesertguide.com/events/
 kiss-of-the-spider-woman-palm-canyon-theatre/var/ri-3.l-L1
URL:https://gaydesertguide.com/events/kiss-of-the-spider-woman-palm-canyon-theatre/var/ri-3.l-L1
END:VEVENT
END:VCALENDAR