BEGIN:VCALENDAR
VERSION:2.0
PRODID:-//eventon.com NONSGML v1.0//EN
CALSCALE:GREGORIAN
METHOD:PUBLISH
BEGIN:VEVENT
UID:69ed39dc0a212
DTSTAMP:20260425T220204Z
DTSTART:20251115
DTEND:20251116
LOCATION:Rubine Red Gallery 668 N Palm Canyon Drive
SUMMARY:Mid-Century Magic / Rubine Red Gallery
DESCRIPTION:Geoffrey Gersten ​ November 15 - December 16 ​​ Opening R
 eception: &nbsp;Saturday\,  Nov 15\, &nbsp; 5-8 pm ​ Master realist paint
 er Geoffrey Gersten mounts his first solo show at Rubine Red Gallery with h
 is very own "Mid-Century Magic". Gersten is arguably the best around in thr
 owback realism -- his&nbsp;iconic images bring[..]\nhttps://gaydesertguide.
 com/events/mid-century-magic-rubine-red-gallery/
URL:https://gaydesertguide.com/events/mid-century-magic-rubine-red-gallery/
END:VEVENT
END:VCALENDAR