BEGIN:VCALENDAR
VERSION:2.0
PRODID:-//eventon.com NONSGML v1.0//EN
CALSCALE:GREGORIAN
METHOD:PUBLISH
BEGIN:VEVENT
UID:69eab811a8da5
DTSTAMP:20260424T002345Z
DTSTART:20251106T030000Z
DTEND:20251106T050000Z
LOCATION:McCallum Theatre 73000 Fred Waring Dr
SUMMARY:Sasha Velour at the McCallum 2025
DESCRIPTION:Wednesday\,  November 5 / 7pm Sasha Velour Global drag icon&nbs
 p;Sasha Velour (HBO’s We’re Here\,  RuPaul’s Drag Race) brings her la
 test theatrical spectacular\, &nbsp;The Big Reveal Live Show&nbsp;to Palm D
 esert&nbsp;after sold out shows across the US and Europe! Known for her emo
 tional\,  thoughtful\,  and crowd-shaking reveals\,  The Big Reveal Live S
 how takes things to[..]\nhttps://gaydesertguide.com/events/sasha-velour-at
 -the-mccallum-2025/
URL:https://gaydesertguide.com/events/sasha-velour-at-the-mccallum-2025/
END:VEVENT
END:VCALENDAR