BEGIN:VCALENDAR
VERSION:2.0
PRODID:-//eventon.com NONSGML v1.0//EN
CALSCALE:GREGORIAN
METHOD:PUBLISH
BEGIN:VEVENT
UID:69e841994385c
DTSTAMP:20260422T033345Z
DTSTART:20260328T030000Z
DTEND:20260328T065900Z
LOCATION:The Show at Agua Caliente Casino Resort Spa 32250 Bob Hope Dr. 92270
SUMMARY:David Foster and Katharine McPhee
DESCRIPTION:David Foster and Katharine McPhee will take the stage at The Sh
 ow at Agua Caliente Casino Resort Spa Rancho Mirage on Friday\,  March 27 a
 t 8 pm for an unforgettable evening of music and storytelling. Foster\,  a 
 16-time Grammy-winning composer and producer\,  has shaped the careers of l
 egends like Celine[..]\nhttps://gaydesertguide.com/events/david-foster-and-
 katharine-mcphee/
URL:https://gaydesertguide.com/events/david-foster-and-katharine-mcphee/
END:VEVENT
END:VCALENDAR