BEGIN:VCALENDAR
VERSION:2.0
PRODID:-//eventon.com NONSGML v1.0//EN
CALSCALE:GREGORIAN
METHOD:PUBLISH
BEGIN:VEVENT
UID:69eb25432df02
DTSTAMP:20260424T080939Z
DTSTART:20260329T010000Z
DTEND:20260329T043000Z
LOCATION:Palm Springs Air Museum 745 N Gene Autry Trl
SUMMARY:Faux Fur Ball 2026
DESCRIPTION:Faux Fur Ball 2026\,  is the signature fundraising event for th
 e Greater Palm Springs Animal Allies and benefits the Palm Springs Animal S
 helter and Desert Wildlife Center. Guests will be provided a delicious vega
 n and vegetarian dinner from Lulu California Catering\,  an impactful progr
 am showcasing our work\,  and entertainment. Our[..]\nhttps://gaydesertguid
 e.com/events/faux-fur-ball-2026/
URL:https://gaydesertguide.com/events/faux-fur-ball-2026/
END:VEVENT
END:VCALENDAR