BEGIN:VCALENDAR
VERSION:2.0
PRODID:-//eventon.com NONSGML v1.0//EN
CALSCALE:GREGORIAN
METHOD:PUBLISH
BEGIN:VEVENT
UID:69e4ce52b8889
DTSTAMP:20260419T124506Z
DTSTART:20260207
DTEND:20260208
LOCATION:Downtown Palm Springs Palm Canyon Drive & E.Tahquitz Canyon Way
SUMMARY:28th Annual Tour de Palm Springs in Coachella Valley
DESCRIPTION:Event Date:&nbsp;February 7th\,  2026 Theme:&nbsp;“Honoring M
 ilitary\,  First Responders\,  and Veterans” Location&nbsp;(Start):&nbsp;
 Downtown Palm Springs\,  CAThe ride spans across the Coachella Valley. Rout
 es Available: Choose from a variety of exciting routes for riders of all le
 vels\,  including: 1 &amp; 3 Miles (Walk) 7 Miles 32 Miles 57 Miles 84 Mile
 s 103 Miles[..]\nhttps://gaydesertguide.com/events/28th-annual-tour-de-palm
 -springs-in-coachella-valley/
URL:https://gaydesertguide.com/events/28th-annual-tour-de-palm-springs-in-coachella-valley/
END:VEVENT
END:VCALENDAR