BEGIN:VCALENDAR
VERSION:2.0
PRODID:-//eventon.com NONSGML v1.0//EN
CALSCALE:GREGORIAN
METHOD:PUBLISH
BEGIN:VEVENT
UID:69ec98368504b
DTSTAMP:20260425T103222Z
DTSTART:20260131T003000Z
DTEND:20260131T030000Z
LOCATION:Arrive Hotel 1551 N Palm Canyon Dr\,  Palm Springs\,  CA 92262
SUMMARY:Drag Bingo at Arrive
DESCRIPTION:BINGO NIGHTS! Bring your friends and join us 4:30-7pm Fridays f
 or some rounds of bingo! No RSVP necessary. Free to play plus enjoy happy h
 our deals!\nhttps://gaydesertguide.com/events/drag-bingo-trivia-nights-at-a
 rrive/
URL:https://gaydesertguide.com/events/drag-bingo-trivia-nights-at-arrive/
END:VEVENT
END:VCALENDAR