BEGIN:VCALENDAR
VERSION:2.0
PRODID:-//eventon.com NONSGML v1.0//EN
CALSCALE:GREGORIAN
METHOD:PUBLISH
BEGIN:VEVENT
UID:69ed39d587d16
DTSTAMP:20260425T220157Z
DTSTART:20251207T190000Z
DTEND:20251207T220000Z
LOCATION:Palm Springs Air Museum 745 N Gene Autry Trl
SUMMARY:A Walk in the Park - Annual Men of the Desert Fashion Show and Luncheon
DESCRIPTION:Palm Springs Air Museum on Sunday\,  December 7th\,  2025 from 
 11am - 2pm Enjoy dudes\,  dogs and designer fashions at one of the Desert's
  most popular charity events. All proceeds benefit Animal Samaritans Animal
  Rescue Program which has saved more than 16\, 000 adoptable\,  at risk dog
 s and cats. Join the[..]\nhttps://gaydesertguide.com/events/16th-annual-men
 -of-the-desert-fashion-show-and-luncheon/
URL:https://gaydesertguide.com/events/16th-annual-men-of-the-desert-fashion-show-and-luncheon/
END:VEVENT
END:VCALENDAR