BEGIN:VCALENDAR
VERSION:2.0
PRODID:-//eventon.com NONSGML v1.0//EN
CALSCALE:GREGORIAN
METHOD:PUBLISH
BEGIN:VEVENT
UID:69eb25f371529
DTSTAMP:20260424T081235Z
DTSTART:20260419T220000Z
DTEND:20260420T065900Z
LOCATION:The Social Cafe and Play Lounge 2825 E Tahquitz Canyon Way
SUMMARY:The Social Cafe & Play Lounge / Events
DESCRIPTION:Monday6:30 AM&nbsp; â€“ 6:00 PM&nbsp;Tuesday6:30 AM&nbsp; â€“ 6
 :00 PM&nbsp;Wednesday6:30 AM&nbsp; â€“ 8:00 PM&nbsp;Thursday6:30 AM&nbsp; â
 €“ 8:00 PM&nbsp;Friday6:30 AM&nbsp; â€“ 8:00 PM&nbsp;Saturday6:30 AM&nbsp; 
 â€“ 6:00 PM&nbsp;Sunday6:30 AM&nbsp; â€“ 6:00 PM&nbsp; *Start your morning 
 with coffee\,  end your evening with cocktails Tuesday Social Trivia Night 
 hosted by Jeff with Luna Lafierce Wine[..]\nhttps://gaydesertguide.com/even
 ts/play-cafe-lounge-events/var/ri-133.l-L1
URL:https://gaydesertguide.com/events/play-cafe-lounge-events/var/ri-133.l-L1
END:VEVENT
END:VCALENDAR