BEGIN:VCALENDAR
VERSION:2.0
PRODID:-//eventon.com NONSGML v1.0//EN
CALSCALE:GREGORIAN
METHOD:PUBLISH
BEGIN:VEVENT
UID:69e886c212f3d
DTSTAMP:20260422T082850Z
DTSTART:20260419T180000Z
DTEND:20260420T065900Z
LOCATION:Chill Bar Palm Springs 217 E Arenas Rd
SUMMARY:Chill Bar / Happy Hours & Bar Events
DESCRIPTION:Daily Hours 11am to 2 am Weekly Events: SUNDAYS / FUNDAY / 4pm 
 - 2am $9 Absolut Vodka$9 Espolon Tequilas MONDAY / P.S. We’re Different 5
 0% Off Beverages$5 Ketel One\,  $5 Cantera Negra$2 Budweiser and Bud Lite B
 ottles Tuesday / Cheap F*uk Tuesday $5 Grey Goose\,  $5 Cazadores$2 Miller 
 Lite[..]\nhttps://gaydesertguide.com/events/chill-bar/var/ri-139.l-L1
URL:https://gaydesertguide.com/events/chill-bar/var/ri-139.l-L1
END:VEVENT
END:VCALENDAR